BEGIN:VCALENDAR
VERSION:2.0
PRODID:-//ChamberMaster//Event Calendar 2.0//EN
METHOD:PUBLISH
X-PUBLISHED-TTL:P3D
REFRESH-INTERVAL:P3D
CALSCALE:GREGORIAN
BEGIN:VEVENT
DTSTART;VALUE=DATE:20151106
DTEND;VALUE=DATE:20151107
TRANSP:TRANSPARENT
X-MICROSOFT-CDO-ALLDAYEVENT:TRUE
SUMMARY:1:00 Chamber office reopen
DESCRIPTION:Chamber Office will re-open at 1:00
X-ALT-DESC;FMTTYPE=text/html:Chamber Office will re-open at 1:00
LOCATION:
UID:e.363.5843
SEQUENCE:3
DTSTAMP:20260420T215000Z
URL:https://barrowcm.365dtm.com/events/details/1-00-chamber-office-reopen-11-06-2015-5843
END:VEVENT

END:VCALENDAR
