BEGIN:VCALENDAR
VERSION:2.0
PRODID:-//ChamberMaster//Event Calendar 2.0//EN
METHOD:PUBLISH
X-PUBLISHED-TTL:P3D
REFRESH-INTERVAL:P3D
CALSCALE:GREGORIAN
BEGIN:VEVENT
DTSTART;VALUE=DATE:20091017
DTEND;VALUE=DATE:20091018
TRANSP:TRANSPARENT
X-MICROSOFT-CDO-ALLDAYEVENT:TRUE
SUMMARY:1st Annual Auburn Pageant
DESCRIPTION:1st Annual Auburn Pageant\nFor Information on being a contestant\, please contact City.
X-ALT-DESC;FMTTYPE=text/html:1st Annual Auburn Pageant\nFor Information on being a contestant\, please contact City.
LOCATION:Downtown Auburn 1369 Fourth Avenue
UID:e.363.3030
SEQUENCE:3
DTSTAMP:20260425T153022Z
URL:https://barrowcm.365dtm.com/events/details/1st-annual-auburn-pageant-10-17-2009-3030
END:VEVENT

END:VCALENDAR
