BEGIN:VCALENDAR
VERSION:2.0
PRODID:-//ChamberMaster//Event Calendar 2.0//EN
METHOD:PUBLISH
X-PUBLISHED-TTL:P3D
REFRESH-INTERVAL:P3D
CALSCALE:GREGORIAN
BEGIN:VEVENT
DTSTART;VALUE=DATE:20111125
DTEND;VALUE=DATE:20111126
TRANSP:TRANSPARENT
X-MICROSOFT-CDO-ALLDAYEVENT:TRUE
SUMMARY:20%SALES EVENT - Elani Fine Jewelry
DESCRIPTION:20% discount on all retired beads \,bracelets and neclaces .
X-ALT-DESC;FMTTYPE=text/html:20% discount on all retired beads \,bracelets and neclaces . 
LOCATION:111East May Street Winder \,GA
UID:e.363.4122
SEQUENCE:3
DTSTAMP:20260424T025228Z
URL:https://barrowcm.365dtm.com/events/details/20-sales-event-elani-fine-jewelry-11-25-2011-4122
END:VEVENT

END:VCALENDAR
