BEGIN:VCALENDAR
VERSION:2.0
PRODID:-//ChamberMaster//Event Calendar 2.0//EN
METHOD:PUBLISH
X-PUBLISHED-TTL:P3D
REFRESH-INTERVAL:P3D
CALSCALE:GREGORIAN
BEGIN:VEVENT
DTSTART:20091009T203000Z
DTEND:20091009T233000Z
X-MICROSOFT-CDO-ALLDAYEVENT:FALSE
SUMMARY:2nd Annual B.C.S.O. Crime Prevention Cook-Off
DESCRIPTION:A fundraiser benefiting the P.L.A.Y. Program\n(Participating in the Lives of Area Youth)\n\nChili Cook-off\, If interested in Booth\, $20.00 per team entry\,\nBring your finest chili and decorate your booth.
X-ALT-DESC;FMTTYPE=text/html:A fundraiser benefiting the P.L.A.Y. Program\n(Participating in the Lives of Area Youth)\n\nChili Cook-off\, If interested in Booth\, $20.00 per team entry\,\nBring your finest chili and decorate your booth.
LOCATION:Barrow County Park and Rec. Department 175 2nd Street\, Winder\, GA
UID:e.363.3056
SEQUENCE:3
DTSTAMP:20260425T153417Z
URL:https://barrowcm.365dtm.com/events/details/2nd-annual-b-c-s-o-crime-prevention-cook-off-10-09-2009-3056
END:VEVENT

END:VCALENDAR
