BEGIN:VCALENDAR
VERSION:2.0
PRODID:-//ChamberMaster//Event Calendar 2.0//EN
METHOD:PUBLISH
X-PUBLISHED-TTL:P3D
REFRESH-INTERVAL:P3D
CALSCALE:GREGORIAN
BEGIN:VEVENT
DTSTART:20151114T120000Z
DTEND:20151114T121500Z
X-MICROSOFT-CDO-ALLDAYEVENT:FALSE
SUMMARY:2nd Annual Healthy Baby Hustle 5K Run
DESCRIPTION:2nd Annual Healthy Baby Hustle  5KRun/Walk & Kids Fun Run
X-ALT-DESC;FMTTYPE=text/html:2nd Annual Healthy Baby Hustle&nbsp\; 5KRun/Walk &amp\; Kids Fun Run
LOCATION:Ft Yargo State Park
UID:e.363.5844
SEQUENCE:3
DTSTAMP:20260420T215632Z
URL:https://barrowcm.365dtm.com/events/details/2nd-annual-healthy-baby-hustle-5k-run-11-14-2015-5844
END:VEVENT

END:VCALENDAR
