BEGIN:VCALENDAR
VERSION:2.0
PRODID:-//ChamberMaster//Event Calendar 2.0//EN
METHOD:PUBLISH
X-PUBLISHED-TTL:P3D
REFRESH-INTERVAL:P3D
CALSCALE:GREGORIAN
BEGIN:VEVENT
DTSTART:20110627T160000Z
DTEND:20110627T160000Z
X-MICROSOFT-CDO-ALLDAYEVENT:FALSE
SUMMARY:36 Hour Driver's Ed Class
DESCRIPTION:A & A Rose's Driving School will be holding the next 36 hour Driver's Ed Class at Winder-Barrow High School June 27th through June 30th for the 30 hours of classroom.  Each teen will drive 6 hours individual in car lessons- \n\n3 two hour lessons.\n\n\n\nIn car lessons are scheduled after the 30 hours of classroom is completed.  Teens must have a valid Georgia permit to drive.  The behind the wheel not only prepares them for the road test - parallel parking\, learning how to back into a parking space as required by the Department of Driver Services but they will also use the three defensive driving techniques learned in class.  This will help them become safe\, defensive drivers.\n\n\n\nWe are proud to announce that we will be offering a Special 10th Anniversary Deal for our summer classes!!  We've been teaching driver's education for 10 years and want to give back to the community.  \n\n\n\nWe're taking $100 off our regular price for the 36 hour class.\n\n\n\nParents when your teen takes our 36 hour class you will receive a $150 tax credit from the State of Georgia on your income tax and you're teen is eligible for a 10% discount on insurance from 16 to 25. (Please check with insurance company for percent and this also is valid as long as there are no tickets.)\n\n\n\nPlease call 770-406-3452 for more information.\n\n\n\nDon't stress let us help you prepare for the test!!!
X-ALT-DESC;FMTTYPE=text/html:A &amp\; A Rose&#39\;s Driving School will be holding the next 36 hour Driver&#39\;s Ed Class at Winder-Barrow High School June 27th through June 30th for the 30 hours of classroom. &nbsp\;Each teen will drive 6 hours individual in car lessons-&nbsp\;<br />\n3 two hour lessons.<br />\n<br />\nIn car lessons are scheduled after the 30 hours of classroom is completed. &nbsp\;Teens must have a valid Georgia permit to drive. &nbsp\;The behind the wheel not only prepares them for the road test - parallel parking\, learning how to back into a parking space as required by the Department of Driver Services but they will also use the three defensive driving techniques learned in class. &nbsp\;This will help them become safe\, defensive drivers.<br />\n<br />\nWe are proud to announce that we will be offering a Special 10th Anniversary Deal for our summer classes!! &nbsp\;We&#39\;ve been teaching driver&#39\;s education for 10 years and want to give back to the community. &nbsp\;<br />\n<br />\nWe&#39\;re taking $100 off our regular price for the 36 hour class.<br />\n<br />\nParents when your teen takes our 36 hour class you will receive a $150 tax credit from the State of Georgia on your income tax and you&#39\;re teen is eligible for a 10% discount on insurance from 16 to 25. (Please check with insurance company for percent and this also is valid as long as there are no tickets.)<br />\n<br />\nPlease call 770-406-3452 for more information.<br />\n<br />\nDon&#39\;t stress let us help you prepare for the test!!!
LOCATION:Winder-Barrow High School
UID:e.363.4041
SEQUENCE:3
DTSTAMP:20260424T092445Z
URL:https://barrowcm.365dtm.com/events/details/36-hour-driver-s-ed-class-06-27-2011-4041
END:VEVENT

END:VCALENDAR
