BEGIN:VCALENDAR
VERSION:2.0
PRODID:-//ChamberMaster//Event Calendar 2.0//EN
METHOD:PUBLISH
X-PUBLISHED-TTL:P3D
REFRESH-INTERVAL:P3D
CALSCALE:GREGORIAN
BEGIN:VEVENT
DTSTART:20131003T150000Z
DTEND:20131003T200000Z
X-MICROSOFT-CDO-ALLDAYEVENT:FALSE
SUMMARY:3rd Annual Sporting Clay Tournament
DESCRIPTION:Sporting Clay Tournament
X-ALT-DESC;FMTTYPE=text/html:Sporting Clay Tournament
LOCATION:
UID:e.363.5022
SEQUENCE:3
DTSTAMP:20260422T161344Z
URL:https://barrowcm.365dtm.com/events/details/3rd-annual-sporting-clay-tournament-10-03-2013-5022
END:VEVENT

END:VCALENDAR
