BEGIN:VCALENDAR
VERSION:2.0
PRODID:-//ChamberMaster//Event Calendar 2.0//EN
METHOD:PUBLISH
X-PUBLISHED-TTL:P3D
REFRESH-INTERVAL:P3D
CALSCALE:GREGORIAN
BEGIN:VEVENT
DTSTART:20090704T190000Z
DTEND:20090705T023000Z
X-MICROSOFT-CDO-ALLDAYEVENT:FALSE
SUMMARY:4th July Celebration
DESCRIPTION:Come to Auburn and celebration our nation's birthday in style. Fireworks at dark thirty. Visit the Auburn Downtown Development Authority Booth.\n\nAsk Janet for your "WILD KINGDOM" bookmark.
X-ALT-DESC;FMTTYPE=text/html:Come to Auburn and celebration our nation's birthday in style. Fireworks at dark thirty. Visit the Auburn Downtown Development Authority Booth.\n\nAsk Janet for your "WILD KINGDOM" bookmark.
LOCATION:Downtown Auburn\, GA
UID:e.363.3021
SEQUENCE:3
DTSTAMP:20260425T201913Z
URL:https://barrowcm.365dtm.com/events/details/4th-july-celebration-07-04-2009-3021
END:VEVENT

END:VCALENDAR
