BEGIN:VCALENDAR
VERSION:2.0
PRODID:-//ChamberMaster//Event Calendar 2.0//EN
METHOD:PUBLISH
X-PUBLISHED-TTL:P3D
REFRESH-INTERVAL:P3D
CALSCALE:GREGORIAN
BEGIN:VEVENT
DTSTART:20090202T233000Z
DTEND:20090203T003000Z
X-MICROSOFT-CDO-ALLDAYEVENT:FALSE
SUMMARY:5 Steps to Optimal Nutrition
DESCRIPTION:Do You \n   - Lack Energy?\n   - Suffer from Muscle and Joint Aches and Pains?\n   - Suffer from Digestive Problems?\n   - Only Eat 1 or 2 meals a day?\n\nIf you answered "YES" to any of these questions\, then you may be deficient in your Nutrition.\n\nSo\, DON'T MISS this seminar...
X-ALT-DESC;FMTTYPE=text/html:Do You \n   - Lack Energy?\n   - Suffer from Muscle and Joint Aches and Pains?\n   - Suffer from Digestive Problems?\n   - Only Eat 1 or 2 meals a day?\n\nIf you answered "YES" to any of these questions\, then you may be deficient in your Nutrition.\n\nSo\, DON'T MISS this seminar...
LOCATION:Winder Library\, 189 Bell View St.\, Winder\, GA - (770) 867-2762
UID:e.363.2654
SEQUENCE:3
DTSTAMP:20260426T041533Z
URL:https://barrowcm.365dtm.com/events/details/5-steps-to-optimal-nutrition-02-02-2009-2654
END:VEVENT

END:VCALENDAR
