BEGIN:VCALENDAR
VERSION:2.0
PRODID:-//ChamberMaster//Event Calendar 2.0//EN
METHOD:PUBLISH
X-PUBLISHED-TTL:P3D
REFRESH-INTERVAL:P3D
CALSCALE:GREGORIAN
BEGIN:VEVENT
DTSTART:20090420T223000Z
DTEND:20090420T233000Z
X-MICROSOFT-CDO-ALLDAYEVENT:FALSE
SUMMARY:5 Steps to Optimal Nutrition
DESCRIPTION:In a fast-paced world\, it has become increasingly harder to maintain good nutrition.  Learn the secret 5 steps to optimize your nutrition.
X-ALT-DESC;FMTTYPE=text/html:In a fast-paced world\, it has become increasingly harder to maintain good nutrition.  Learn the secret 5 steps to optimize your nutrition.
LOCATION:Winder Public Library
UID:e.363.2675
SEQUENCE:3
DTSTAMP:20260426T011709Z
URL:https://barrowcm.365dtm.com/events/details/5-steps-to-optimal-nutrition-04-20-2009-2675
END:VEVENT

END:VCALENDAR
