BEGIN:VCALENDAR
VERSION:2.0
PRODID:-//ChamberMaster//Event Calendar 2.0//EN
METHOD:PUBLISH
X-PUBLISHED-TTL:P3D
REFRESH-INTERVAL:P3D
CALSCALE:GREGORIAN
BEGIN:VEVENT
DTSTART:20120505T123000Z
DTEND:20120505T180000Z
X-MICROSOFT-CDO-ALLDAYEVENT:FALSE
SUMMARY:5th Annual Community Garage Sale
DESCRIPTION:BE A BUYER OR SELLER @ our 5th ANNUAL COMMUNITY GARAGE SALE!   Rent a Unit to use as your Booth Only $10 & $15 for the day! Call to RESERVE YOUR BOOTH TODAY! \n\nWhile Supply Last!  770-868-1422\n\n	Join us for a day of Treasure Seeking & Fun!\n\n	Enjoy snacks\, refreshments\, and much more!\n\n	You never know what you will find!\n\n	Enter to Win one of several Door Prizes!
X-ALT-DESC;FMTTYPE=text/html:BE A BUYER OR SELLER<span style="font-size: 12px">&nbsp\;@ our 5th ANNUAL COMMUNITY GARAGE SALE!&nbsp\;&nbsp\; Rent a Unit to use as your Booth Only $10 &amp\; $15 for the day! Call to RESERVE YOUR BOOTH TODAY!&nbsp\;<br />\nWhile Supply Last!&nbsp\; 770-868-1422</span>\n<p style="text-align: center">\n	<span style="font-size: 12px">Join us for a day of Treasure Seeking &amp\; Fun!<br />\n	Enjoy snacks\, refreshments\, and much more!<br />\n	You never know what you will find!<br />\n	Enter to Win one of several Door Prizes!</span></p>\n
LOCATION:StorAway Mini-Warehouses 208 West Athens Street\, Winder\, GA 30680
UID:e.363.4229
SEQUENCE:3
DTSTAMP:20260423T181237Z
URL:https://barrowcm.365dtm.com/events/details/5th-annual-community-garage-sale-05-05-2012-4229
END:VEVENT

END:VCALENDAR
