BEGIN:VCALENDAR
VERSION:2.0
PRODID:-//ChamberMaster//Event Calendar 2.0//EN
METHOD:PUBLISH
X-PUBLISHED-TTL:P3D
REFRESH-INTERVAL:P3D
CALSCALE:GREGORIAN
BEGIN:VEVENT
DTSTART:20161112T150000Z
DTEND:20161112T200000Z
X-MICROSOFT-CDO-ALLDAYEVENT:FALSE
SUMMARY:5th Annual Holiday Bazaar
DESCRIPTION:Join us for a festive shopping event at our 5th Annual Holiday Bazaar! Food\, craft and direct sales vendors to shop from. Also\, a kid's corner to complete the family fun day!
X-ALT-DESC;FMTTYPE=text/html:Join us for a festive shopping event at our 5th Annual Holiday Bazaar! Food\, craft and direct sales vendors to shop from. Also\, a kid&#39\;s corner to complete the family fun day!
LOCATION:Bethlehem First United Methodist Church
UID:e.363.6890
SEQUENCE:3
DTSTAMP:20260420T031258Z
URL:https://barrowcm.365dtm.com/events/details/5th-annual-holiday-bazaar-6890
END:VEVENT

END:VCALENDAR
