BEGIN:VCALENDAR
VERSION:2.0
PRODID:-//ChamberMaster//Event Calendar 2.0//EN
METHOD:PUBLISH
X-PUBLISHED-TTL:P3D
REFRESH-INTERVAL:P3D
CALSCALE:GREGORIAN
BEGIN:VEVENT
DTSTART:20151212T210000Z
DTEND:20151212T230000Z
X-MICROSOFT-CDO-ALLDAYEVENT:FALSE
SUMMARY:67th Annual Winder Christmas Parade
DESCRIPTION:The 67th Annual Winder Christmas Parade!
X-ALT-DESC;FMTTYPE=text/html:The 67th Annual Winder Christmas Parade!<br />\n&nbsp\;
LOCATION:N. Broad Street
UID:e.363.5805
SEQUENCE:3
DTSTAMP:20260420T203628Z
URL:https://barrowcm.365dtm.com/events/details/67th-annual-winder-christmas-parade-12-12-2015-5805
END:VEVENT

END:VCALENDAR
