BEGIN:VCALENDAR
VERSION:2.0
PRODID:-//ChamberMaster//Event Calendar 2.0//EN
METHOD:PUBLISH
X-PUBLISHED-TTL:P3D
REFRESH-INTERVAL:P3D
CALSCALE:GREGORIAN
BEGIN:VEVENT
DTSTART:20130420T123000Z
DTEND:20130420T180000Z
X-MICROSOFT-CDO-ALLDAYEVENT:FALSE
SUMMARY:6th Annual Community Yard/Garage Sale
DESCRIPTION:6th Annual Community Yard/Garage Sale - Open to the Public\n\n	Furniture\, clothing\, appliances\, tanning equipment\, toys\, jewelry\, etc. Too many to mention!  Boy Scouts will be selling breakfast food and lunch!!     Come Find Your Treasure!    Jenny Bear the Clown\, CERT\, Fire Dept will all be present.\n\n	\n\n	ENTER TO WIN ONE OF THE MANY DOOR PRIZES!
X-ALT-DESC;FMTTYPE=text/html:<h2>\n	6th Annual Community Yard/Garage Sale - Open to the Public</h2>\n<p>\n	Furniture\, clothing\, appliances\, tanning equipment\, toys\, jewelry\, etc. Too many to mention!&nbsp\;&nbsp\;Boy Scouts will be selling breakfast food and lunch!!&nbsp\;&nbsp\;&nbsp\;&nbsp\; <strong>Come Find Your Treasure!</strong>&nbsp\;&nbsp\;&nbsp\; Jenny Bear the Clown\, CERT\, Fire Dept will all be present.<br />\n	<br />\n	<em><strong>ENTER TO WIN ONE OF THE MANY DOOR PRIZES!</strong></em></p>\n
LOCATION:StorAway Mini-Warehouses 208 W Athens St\, Winder\, GA Nezt to Hills Ace Hardware
UID:e.363.4858
SEQUENCE:3
DTSTAMP:20260423T010509Z
URL:https://barrowcm.365dtm.com/events/details/6th-annual-community-yard-garage-sale-04-20-2013-4858
END:VEVENT

END:VCALENDAR
