BEGIN:VCALENDAR
VERSION:2.0
PRODID:-//ChamberMaster//Event Calendar 2.0//EN
METHOD:PUBLISH
X-PUBLISHED-TTL:P3D
REFRESH-INTERVAL:P3D
CALSCALE:GREGORIAN
BEGIN:VEVENT
DTSTART;VALUE=DATE:20160214
DTEND;VALUE=DATE:20160215
TRANSP:TRANSPARENT
X-MICROSOFT-CDO-ALLDAYEVENT:TRUE
SUMMARY:A Valentine Day of Weddings
DESCRIPTION:Carl House is excited to announce we will be holding 'A Valentine Day of Weddings' on February 14\, 2016.  We created a very special wedding package perfect for couples wanting to get married on the most romantic day of the year! Just choose your time and let us take care of all the details. We have included almost everything you need\, including: a perfect location\, hors d'oeuvres\, beverages\, champagne toast\, cupcake station\, DJ\, photographer\, officiant\, wedding director and even a photo booth to capture all the memories from your special day. All this starting at just $3\,700. For more details visit:  http://www.carlhouse.com/featured-promotions/
X-ALT-DESC;FMTTYPE=text/html:<span style="font-family:calibri\,sans-serif"><span style="font-size:11.0pt">Carl House is excited to announce we will be holding &lsquo\;A Valentine Day of Weddings&rsquo\; on February 14\, 2016. &nbsp\;We created a very special wedding package perfect for couples wanting to get married on the most romantic day of the year! Just choose your time and let us take care of all the details. We have included almost everything you need\, including: a perfect location\, hors d&rsquo\;oeuvres\, beverages\, champagne toast\, cupcake station\, DJ\, photographer\, officiant\, wedding director and even a photo booth to capture all the memories from your special day. All this starting at just $3\,700. For more details visit: &nbsp\;</span></span>http://www.carlhouse.com/featured-promotions/
LOCATION:Carl House - 1176 Atlanta Highway\, Auburn GA 30011
UID:e.363.5853
SEQUENCE:3
DTSTAMP:20260420T172710Z
URL:https://barrowcm.365dtm.com/events/details/a-valentine-day-of-weddings-02-14-2016-5853
END:VEVENT

END:VCALENDAR
