BEGIN:VCALENDAR
VERSION:2.0
PRODID:-//ChamberMaster//Event Calendar 2.0//EN
METHOD:PUBLISH
X-PUBLISHED-TTL:P3D
REFRESH-INTERVAL:P3D
CALSCALE:GREGORIAN
BEGIN:VEVENT
DTSTART:20130921T123000Z
DTEND:20130921T160000Z
X-MICROSOFT-CDO-ALLDAYEVENT:FALSE
SUMMARY:AB5K 2013
DESCRIPTION:A&B: Above and Beyond Youth Academy's 2nd annual 5K run/walk
X-ALT-DESC;FMTTYPE=text/html:A&amp\;B: Above and Beyond Youth Academy&#39\;s 2nd annual 5K run/walk
LOCATION:Fort Yargo State Park
UID:e.363.5031
SEQUENCE:3
DTSTAMP:20260422T174221Z
URL:https://barrowcm.365dtm.com/events/details/ab5k-2013-09-21-2013-5031
END:VEVENT

END:VCALENDAR
