BEGIN:VCALENDAR
VERSION:2.0
PRODID:-//ChamberMaster//Event Calendar 2.0//EN
METHOD:PUBLISH
X-PUBLISHED-TTL:P3D
REFRESH-INTERVAL:P3D
CALSCALE:GREGORIAN
BEGIN:VEVENT
DTSTART;VALUE=DATE:20120915
DTEND;VALUE=DATE:20120916
TRANSP:TRANSPARENT
X-MICROSOFT-CDO-ALLDAYEVENT:TRUE
SUMMARY:Adventure Bags\, Inc. 1st Annual Motorcycle Ride/Festival
DESCRIPTION:
X-ALT-DESC;FMTTYPE=text/html:
LOCATION:Barrow County DFCS
UID:e.363.4561
SEQUENCE:3
DTSTAMP:20260423T120244Z
URL:https://barrowcm.365dtm.com/events/details/adventure-bags-inc-1st-annual-motorcycle-ride-festival-09-15-2012-4561
END:VEVENT

END:VCALENDAR
