BEGIN:VCALENDAR
VERSION:2.0
PRODID:-//ChamberMaster//Event Calendar 2.0//EN
METHOD:PUBLISH
X-PUBLISHED-TTL:P3D
REFRESH-INTERVAL:P3D
CALSCALE:GREGORIAN
BEGIN:VEVENT
DTSTART:20120609T140000Z
DTEND:20120609T180000Z
X-MICROSOFT-CDO-ALLDAYEVENT:FALSE
SUMMARY:Aikido School Open House
DESCRIPTION:We are having an Open House to celebrate our new location. Come by for Food\, Fun and Prizes and learn about the classes offered: Self Defense\, Meditation\, Iaido and Zumba Fitness!
X-ALT-DESC;FMTTYPE=text/html:We are having an Open House to celebrate our new location. Come by for Food\, Fun and Prizes and learn about the classes offered: Self Defense\, Meditation\, Iaido and Zumba Fitness!
LOCATION:47 North Jackson Street\, Winder
UID:e.363.4503
SEQUENCE:3
DTSTAMP:20260423T162529Z
URL:https://barrowcm.365dtm.com/events/details/aikido-school-open-house-06-09-2012-4503
END:VEVENT

END:VCALENDAR
