BEGIN:VCALENDAR
VERSION:2.0
PRODID:-//ChamberMaster//Event Calendar 2.0//EN
METHOD:PUBLISH
X-PUBLISHED-TTL:P3D
REFRESH-INTERVAL:P3D
CALSCALE:GREGORIAN
BEGIN:VEVENT
DTSTART:20090415T200000Z
DTEND:20090415T200000Z
X-MICROSOFT-CDO-ALLDAYEVENT:FALSE
SUMMARY:Ambassador Committe Meeting
DESCRIPTION:
X-ALT-DESC;FMTTYPE=text/html:
LOCATION:The Chamber Office
UID:e.363.2694
SEQUENCE:3
DTSTAMP:20260426T011708Z
URL:https://barrowcm.365dtm.com/events/details/ambassador-committe-meeting-04-15-2009-2694
END:VEVENT

END:VCALENDAR
