BEGIN:VCALENDAR
VERSION:2.0
PRODID:-//ChamberMaster//Event Calendar 2.0//EN
METHOD:PUBLISH
X-PUBLISHED-TTL:P3D
REFRESH-INTERVAL:P3D
CALSCALE:GREGORIAN
BEGIN:VEVENT
DTSTART:20130724T200000Z
DTEND:20130724T210000Z
X-MICROSOFT-CDO-ALLDAYEVENT:FALSE
SUMMARY:Ambassador Meeting
DESCRIPTION:
X-ALT-DESC;FMTTYPE=text/html:
LOCATION:
UID:e.363.5024
SEQUENCE:3
DTSTAMP:20260422T204650Z
URL:https://barrowcm.365dtm.com/events/details/ambassador-meeting-07-24-2013-5024
END:VEVENT

END:VCALENDAR
