BEGIN:VCALENDAR
VERSION:2.0
PRODID:-//ChamberMaster//Event Calendar 2.0//EN
METHOD:PUBLISH
X-PUBLISHED-TTL:P3D
REFRESH-INTERVAL:P3D
CALSCALE:GREGORIAN
BEGIN:VEVENT
DTSTART:20110618T230000Z
DTEND:20110618T230000Z
X-MICROSOFT-CDO-ALLDAYEVENT:FALSE
SUMMARY:American Legion Post #53 Dance
DESCRIPTION:Dance to the great live music of The Steel River Band!  Open to the public!
X-ALT-DESC;FMTTYPE=text/html:Dance to the great live music of The Steel River Band!&nbsp\; Open to the public!
LOCATION:American Legion Post#53 456 Watson Rd. Winder\, Ga. (770) 586-5087
UID:e.363.4042
SEQUENCE:3
DTSTAMP:20260424T092730Z
URL:https://barrowcm.365dtm.com/events/details/american-legion-post-53-dance-06-18-2011-4042
END:VEVENT

END:VCALENDAR
