BEGIN:VCALENDAR
VERSION:2.0
PRODID:-//ChamberMaster//Event Calendar 2.0//EN
METHOD:PUBLISH
X-PUBLISHED-TTL:P3D
REFRESH-INTERVAL:P3D
CALSCALE:GREGORIAN
BEGIN:VEVENT
DTSTART:20110806T230000Z
DTEND:20110807T030000Z
X-MICROSOFT-CDO-ALLDAYEVENT:FALSE
SUMMARY:AMERICAN LEGION POST 53 DANCES
DESCRIPTION:AMERICAN LEGION POST 53 WILL HOLD A DANCE SATURDAY \, AUGUST 6TH . COME AND ENJOY DANCING TO THE LIVE MUSIC OF "THE OPREY" BAND.  ADMISSION JUST $6.00. BAR OPEN.   PROCEEDS GO TO SUPPORT PROGRAMS FOR VETERANS\, MILITARY\,THEIR FAMILIES\, AND THE COMMUNITY.
X-ALT-DESC;FMTTYPE=text/html:AMERICAN LEGION POST 53 WILL HOLD A DANCE SATURDAY \, AUGUST 6TH . COME AND ENJOY DANCING TO THE LIVE MUSIC OF &quot\;THE OPREY&quot\; BAND.&nbsp\; ADMISSION JUST $6.00.&nbsp\;BAR OPEN.&nbsp\; &nbsp\;PROCEEDS GO TO SUPPORT PROGRAMS FOR VETERANS\, MILITARY\,THEIR FAMILIES\, AND THE COMMUNITY.&nbsp\;
LOCATION:456 WATSON ROAD\, WINDER\, GA.
UID:e.363.4063
SEQUENCE:3
DTSTAMP:20260424T064711Z
URL:https://barrowcm.365dtm.com/events/details/american-legion-post-53-dances-08-06-2011-4063
END:VEVENT

END:VCALENDAR
