BEGIN:VCALENDAR
VERSION:2.0
PRODID:-//ChamberMaster//Event Calendar 2.0//EN
METHOD:PUBLISH
X-PUBLISHED-TTL:P3D
REFRESH-INTERVAL:P3D
CALSCALE:GREGORIAN
BEGIN:VEVENT
DTSTART:20110712T230000Z
DTEND:20110713T000000Z
X-MICROSOFT-CDO-ALLDAYEVENT:FALSE
SUMMARY:American Legion Post 53 meeting
DESCRIPTION:DUE TO ILLNESSES  AND THE HOLIDAY\, THE JULY 5TH MEETING HAS BEEN CHANGED TO JULY 12TH AT 7PM . INSTALLATION OF 2011-2012 OFFICERS WILL TAKE PLACE AT THAT TIME.  WE APOLOGIZE FOR ANY INCONVIENCE AND HOPE YOU WILL JOIN US NEXT TUESDAY.  SEE YOU THERE!
X-ALT-DESC;FMTTYPE=text/html:DUE TO ILLNESSES &nbsp\;AND THE HOLIDAY\, THE JULY 5TH MEETING HAS BEEN CHANGED TO JULY 12TH AT 7PM . INSTALLATION OF 2011-2012 OFFICERS&nbsp\;WILL TAKE PLACE AT THAT TIME.&nbsp\; WE APOLOGIZE FOR ANY INCONVIENCE AND HOPE YOU WILL JOIN US NEXT TUESDAY.&nbsp\; SEE YOU THERE!
LOCATION:456 Watson Rd. Winder\, Ga.
UID:e.363.4057
SEQUENCE:3
DTSTAMP:20260424T084415Z
URL:https://barrowcm.365dtm.com/events/details/american-legion-post-53-meeting-07-12-2011-4057
END:VEVENT

END:VCALENDAR
