BEGIN:VCALENDAR
VERSION:2.0
PRODID:-//ChamberMaster//Event Calendar 2.0//EN
METHOD:PUBLISH
X-PUBLISHED-TTL:P3D
REFRESH-INTERVAL:P3D
CALSCALE:GREGORIAN
BEGIN:VEVENT
DTSTART:20110802T230000Z
DTEND:20110803T000000Z
X-MICROSOFT-CDO-ALLDAYEVENT:FALSE
SUMMARY:AMERICAN LEGION POST 53 MONTHLY MEETING
DESCRIPTION:AMERICAN LEGION POST 53\, SAL\, AND AUXILIARY WILL HOLD THEIR MONTHLY MEETING AUGUST 2ND AT 7PM AT THE POST.  REMEMBER IT IS TIME TO RENEW YOUR MEMBERSHIPS!
X-ALT-DESC;FMTTYPE=text/html:AMERICAN LEGION POST 53\, SAL\, AND AUXILIARY WILL HOLD THEIR MONTHLY MEETING AUGUST 2ND AT 7PM AT THE POST.&nbsp\; REMEMBER IT IS TIME TO RENEW YOUR MEMBERSHIPS!
LOCATION:456 WATSON ROAD IN WINDER
UID:e.363.4064
SEQUENCE:3
DTSTAMP:20260424T065051Z
URL:https://barrowcm.365dtm.com/events/details/american-legion-post-53-monthly-meeting-08-02-2011-4064
END:VEVENT

END:VCALENDAR
