BEGIN:VCALENDAR
VERSION:2.0
PRODID:-//ChamberMaster//Event Calendar 2.0//EN
METHOD:PUBLISH
X-PUBLISHED-TTL:P3D
REFRESH-INTERVAL:P3D
CALSCALE:GREGORIAN
BEGIN:VEVENT
DTSTART:20110813T230000Z
DTEND:20110814T030000Z
X-MICROSOFT-CDO-ALLDAYEVENT:FALSE
SUMMARY:AMERICAN LEGION POST53 DANCE
DESCRIPTION:AMERICAN LEGION POST 53 WILL HOLD IT'S WEEKLY SATURDAY DANCE ON SATURDAY\, AUGUST 13TH AT 7PM. GREAT LIVE MUSIC WILL BE PROVIDED BY THE OPRY BAND. BAR OPEN. ADMISSION JUST $6.00.  PROCEEDS GO TO CARRY ON PROGRAMS FOR OUR VETS\, MILITARY\, THEIR FAMILIES\, AND THE COMMUNITY.  COME SUPPORT THOSE WHO SERVE US.
X-ALT-DESC;FMTTYPE=text/html:AMERICAN LEGION POST 53 WILL HOLD IT&#39\;S WEEKLY SATURDAY DANCE ON SATURDAY\, AUGUST 13TH AT 7PM. GREAT LIVE MUSIC WILL BE PROVIDED BY THE OPRY BAND. BAR OPEN. ADMISSION JUST $6.00.&nbsp\; PROCEEDS GO TO CARRY ON PROGRAMS FOR OUR VETS\, MILITARY\, THEIR FAMILIES\, AND THE COMMUNITY.&nbsp\; COME SUPPORT THOSE WHO SERVE US.
LOCATION:456 WATSON ROAD\, WINDER
UID:e.363.4066
SEQUENCE:3
DTSTAMP:20260424T064710Z
URL:https://barrowcm.365dtm.com/events/details/american-legion-post53-dance-08-13-2011-4066
END:VEVENT

END:VCALENDAR
