BEGIN:VCALENDAR
VERSION:2.0
PRODID:-//ChamberMaster//Event Calendar 2.0//EN
METHOD:PUBLISH
X-PUBLISHED-TTL:P3D
REFRESH-INTERVAL:P3D
CALSCALE:GREGORIAN
BEGIN:VEVENT
DTSTART:20160421T223000Z
DTEND:20160422T003000Z
X-MICROSOFT-CDO-ALLDAYEVENT:FALSE
SUMMARY:An Evening with the Candidates for Barrow County
DESCRIPTION:Barrow County CHamber is hosting\n\nAn Evening with the Candidates
X-ALT-DESC;FMTTYPE=text/html:Barrow County CHamber is hosting<br />\nAn Evening with the Candidates
LOCATION:Colleen O Williams Theatre
UID:e.363.5867
SEQUENCE:3
DTSTAMP:20260420T142748Z
URL:https://barrowcm.365dtm.com/events/details/an-evening-with-the-candidates-for-barrow-county-04-21-2016-5867
END:VEVENT

END:VCALENDAR
