BEGIN:VCALENDAR
VERSION:2.0
PRODID:-//ChamberMaster//Event Calendar 2.0//EN
METHOD:PUBLISH
X-PUBLISHED-TTL:P3D
REFRESH-INTERVAL:P3D
CALSCALE:GREGORIAN
BEGIN:VEVENT
DTSTART:20160206T230000Z
DTEND:20160207T000000Z
X-MICROSOFT-CDO-ALLDAYEVENT:FALSE
SUMMARY:Annual Dinner
DESCRIPTION:Annual Dinner
X-ALT-DESC;FMTTYPE=text/html:Annual Dinner
LOCATION:Chateau Elan
UID:e.363.5848
SEQUENCE:3
DTSTAMP:20260420T172129Z
URL:https://barrowcm.365dtm.com/events/details/annual-dinner-02-06-2016-5848
END:VEVENT

END:VCALENDAR
