BEGIN:VCALENDAR
VERSION:2.0
PRODID:-//ChamberMaster//Event Calendar 2.0//EN
METHOD:PUBLISH
X-PUBLISHED-TTL:P3D
REFRESH-INTERVAL:P3D
CALSCALE:GREGORIAN
BEGIN:VEVENT
DTSTART;VALUE=DATE:20120204
DTEND;VALUE=DATE:20120205
TRANSP:TRANSPARENT
X-MICROSOFT-CDO-ALLDAYEVENT:TRUE
SUMMARY:Annual Dinner at Chateau Elan
DESCRIPTION:Annual Dinner
X-ALT-DESC;FMTTYPE=text/html:Annual Dinner<br />\n
LOCATION:Chateau Elan
UID:e.363.4151
SEQUENCE:3
DTSTAMP:20260423T222301Z
URL:https://barrowcm.365dtm.com/events/details/annual-dinner-at-chateau-elan-02-04-2012-4151
END:VEVENT

END:VCALENDAR
