BEGIN:VCALENDAR
VERSION:2.0
PRODID:-//ChamberMaster//Event Calendar 2.0//EN
METHOD:PUBLISH
X-PUBLISHED-TTL:P3D
REFRESH-INTERVAL:P3D
CALSCALE:GREGORIAN
BEGIN:VEVENT
DTSTART;VALUE=DATE:20140111
DTEND;VALUE=DATE:20140112
TRANSP:TRANSPARENT
X-MICROSOFT-CDO-ALLDAYEVENT:TRUE
SUMMARY:Annual Dinner @ Chateau Elan
DESCRIPTION:ANnual Dinner
X-ALT-DESC;FMTTYPE=text/html:ANnual Dinner 
LOCATION:Chateau Elan
UID:e.363.5371
SEQUENCE:3
DTSTAMP:20260422T080012Z
URL:https://barrowcm.365dtm.com/events/details/annual-dinner-chateau-elan-01-11-2014-5371
END:VEVENT

END:VCALENDAR
