BEGIN:VCALENDAR
VERSION:2.0
PRODID:-//ChamberMaster//Event Calendar 2.0//EN
METHOD:PUBLISH
X-PUBLISHED-TTL:P3D
REFRESH-INTERVAL:P3D
CALSCALE:GREGORIAN
BEGIN:VEVENT
DTSTART;VALUE=DATE:20150131
DTEND;VALUE=DATE:20150201
TRANSP:TRANSPARENT
X-MICROSOFT-CDO-ALLDAYEVENT:TRUE
SUMMARY:Annual Dinner for Chamber
DESCRIPTION:Annual Dinner @ Chateau Elan
X-ALT-DESC;FMTTYPE=text/html:Annual Dinner @ Chateau Elan
LOCATION:Chateau Elan
UID:e.363.5467
SEQUENCE:3
DTSTAMP:20260421T135455Z
URL:https://barrowcm.365dtm.com/events/details/annual-dinner-for-chamber-01-31-2015-5467
END:VEVENT

END:VCALENDAR
