BEGIN:VCALENDAR
VERSION:2.0
PRODID:-//ChamberMaster//Event Calendar 2.0//EN
METHOD:PUBLISH
X-PUBLISHED-TTL:P3D
REFRESH-INTERVAL:P3D
CALSCALE:GREGORIAN
BEGIN:VEVENT
DTSTART:20131003T210000Z
DTEND:20131007T230000Z
X-MICROSOFT-CDO-ALLDAYEVENT:FALSE
SUMMARY:Annual Friends of the Winder Public Library Book Sale
DESCRIPTION:BOOK SALE at the Winder Public Library - LARGE PUBLIC LIBRARY SALE\n\nBooks\; CDs\, Videos\, Books on Tape\; Large selection of Childrens' and Teens' books.\n\n\n\nPREVIEW SALE:  Thurs.\, Oct. 3rd:  5-7 PM\, Open to Friends Members Only.  Join at the door\; memberships start at $10.00. No scanners at this preview.\n\n\n\nPUBLIC SALE DAYS:  Fri.\, Oct. 4th:  9 - 5 PM\; Sat.\, Oct. 5th: 9 - 5 PM\; Mon.\, Oct. 7th: 9 - 8 PM.\n\n\n\nGREAT PRICES ON  NEW AND GENTLY USED BOOKS.  Hard covers: $1.00 to $2.00\; trade paperbacks: $1.00\; all other paperbacks: $.50\; childrens' books: (5) for $1.00\, unless priced otherwise.  Collectable books priced separately.  SORTED BY CATEGORY.  Cash & checks accepted.\n\n\n\nScanners permited during public sale days on Friday\, Saturday and Monday.\n\nFor more information\, please contact the Friends office at 770-867-2762
X-ALT-DESC;FMTTYPE=text/html:BOOK SALE at the Winder Public Library - LARGE PUBLIC LIBRARY SALE<br />\nBooks\; CDs\, Videos\, Books on Tape\; Large selection of Childrens&#39\; and Teens&#39\; books.<br />\n<br />\nPREVIEW SALE:&nbsp\; Thurs.\, Oct. 3rd:&nbsp\; 5-7 PM\, Open to Friends Members Only.&nbsp\; Join at the door\; memberships start at $10.00. No scanners at this preview.<br />\n<br />\nPUBLIC SALE DAYS:&nbsp\; Fri.\, Oct. 4th:&nbsp\; 9 - 5 PM\; Sat.\, Oct. 5th: 9 - 5 PM\; Mon.\, Oct. 7th: 9 - 8 PM.<br />\n<br />\nGREAT PRICES ON&nbsp\; NEW AND GENTLY USED BOOKS.&nbsp\; Hard covers: $1.00 to $2.00\; trade paperbacks: $1.00\; all other paperbacks: $.50\; childrens&#39\; books: (5) for $1.00\, unless priced otherwise.&nbsp\; Collectable books priced separately.&nbsp\; SORTED BY CATEGORY.&nbsp\; Cash &amp\; checks accepted.<br />\n<br />\nScanners permited during public sale days on Friday\, Saturday and Monday.<br />\nFor more information\, please contact the Friends office at 770-867-2762
LOCATION:Winder Public Library\, 189 Bellview St.\, Winder\, GA 30680
UID:e.363.5139
SEQUENCE:3
DTSTAMP:20260422T161620Z
URL:https://barrowcm.365dtm.com/events/details/annual-friends-of-the-winder-public-library-book-sale-10-03-2013-5139
END:VEVENT

END:VCALENDAR
