BEGIN:VCALENDAR
VERSION:2.0
PRODID:-//ChamberMaster//Event Calendar 2.0//EN
METHOD:PUBLISH
X-PUBLISHED-TTL:P3D
REFRESH-INTERVAL:P3D
CALSCALE:GREGORIAN
BEGIN:VEVENT
DTSTART:20090502T130000Z
DTEND:20090502T210000Z
X-MICROSOFT-CDO-ALLDAYEVENT:FALSE
SUMMARY:Antiques Arts & Garden Market Statham
DESCRIPTION:Antiques\, vintage and collectibles\, state and local artisans\, garden art\, variety of plants\, gourmet food\, and GA Cherokee performers will be available in downtown Statham for your enjoyment.
X-ALT-DESC;FMTTYPE=text/html:<div>Antiques\, vintage and collectibles\, state and local artisans\, garden art\, variety of plants\, gourmet food\, and GA Cherokee performers will be available in downtown Statham for your enjoyment.</div>
LOCATION:Statham\, GA 30666 located at Ga Hwy. 29 and GA Hwy. 211
UID:e.363.2711
SEQUENCE:3
DTSTAMP:20260425T234425Z
URL:https://barrowcm.365dtm.com/events/details/antiques-arts-garden-market-statham-05-02-2009-2711
END:VEVENT

END:VCALENDAR
