BEGIN:VCALENDAR
VERSION:2.0
PRODID:-//ChamberMaster//Event Calendar 2.0//EN
METHOD:PUBLISH
X-PUBLISHED-TTL:P3D
REFRESH-INTERVAL:P3D
CALSCALE:GREGORIAN
BEGIN:VEVENT
DTSTART:20130307T210000Z
DTEND:20130308T000000Z
X-MICROSOFT-CDO-ALLDAYEVENT:FALSE
SUMMARY:Artist's Reception at The Principal's Palette
DESCRIPTION:Open House featuring Artist Becky Beasley and her whimsical creations for children and adults
X-ALT-DESC;FMTTYPE=text/html:<h3 style="color: blue\;">\n	<span style="font-size: 14px\;"><span style="color: rgb(0\, 0\, 205)\;"><span style="background-color: rgb(255\, 255\, 0)\;">Open House featuring Artist Becky Beasley and her whimsical creations for children and adults</span></span></span></h3>\n
LOCATION:The Principal's Palette Gallery & Gift Boutique
UID:e.363.4840
SEQUENCE:3
DTSTAMP:20260423T023234Z
URL:https://barrowcm.365dtm.com/events/details/artist-s-reception-at-the-principal-s-palette-03-07-2013-4840
END:VEVENT

END:VCALENDAR
