BEGIN:VCALENDAR
VERSION:2.0
PRODID:-//ChamberMaster//Event Calendar 2.0//EN
METHOD:PUBLISH
X-PUBLISHED-TTL:P3D
REFRESH-INTERVAL:P3D
CALSCALE:GREGORIAN
BEGIN:VEVENT
DTSTART:20150912T200000Z
DTEND:20150913T030000Z
X-MICROSOFT-CDO-ALLDAYEVENT:FALSE
SUMMARY:Auburn Stroll
DESCRIPTION:Auburn Stroll - Relax and Unwind\n\nFree activities and Movie for the kids
X-ALT-DESC;FMTTYPE=text/html:Auburn Stroll - Relax and Unwind<br />\nFree activities and Movie for the kids
LOCATION:Downtown Auburn
UID:e.363.5821
SEQUENCE:3
DTSTAMP:20260421T010704Z
URL:https://barrowcm.365dtm.com/events/details/auburn-stroll-09-12-2015-5821
END:VEVENT

END:VCALENDAR
