BEGIN:VCALENDAR
VERSION:2.0
PRODID:-//ChamberMaster//Event Calendar 2.0//EN
METHOD:PUBLISH
X-PUBLISHED-TTL:P3D
REFRESH-INTERVAL:P3D
CALSCALE:GREGORIAN
BEGIN:VEVENT
DTSTART:20141025T140000Z
DTEND:20141025T220000Z
X-MICROSOFT-CDO-ALLDAYEVENT:FALSE
SUMMARY:Auburnfest & Halloween Events
DESCRIPTION:Auburnest and Halloween Events\n\nActivities all day starting at 10:oo am going thru 6:00
X-ALT-DESC;FMTTYPE=text/html:Auburnest and Halloween Events<br />\nActivities all day starting at 10:oo am going thru 6:00
LOCATION:H. Burel Pak Downtown Auburn
UID:e.363.5465
SEQUENCE:3
DTSTAMP:20260421T184433Z
URL:https://barrowcm.365dtm.com/events/details/auburnfest-halloween-events-10-25-2014-5465
END:VEVENT

END:VCALENDAR
