BEGIN:VCALENDAR
VERSION:2.0
PRODID:-//ChamberMaster//Event Calendar 2.0//EN
METHOD:PUBLISH
X-PUBLISHED-TTL:P3D
REFRESH-INTERVAL:P3D
CALSCALE:GREGORIAN
BEGIN:VEVENT
DTSTART:20170106T140000Z
DTEND:20170106T150000Z
X-MICROSOFT-CDO-ALLDAYEVENT:FALSE
SUMMARY:B.O.B.
DESCRIPTION:B.O.B.\n\nJesse Busch will be our Speaker\, "Saving Money"\n\n(How to play the credit card game.) How to use credit cards to pay the right bills at the right times and get money back
X-ALT-DESC;FMTTYPE=text/html:B.O.B.<br />\nJesse Busch will be our Speaker\, &quot\;Saving Money&quot\;<br />\n(How to play the credit card game.) How to use credit cards to pay the right bills at the right times and get money back<br />\n&nbsp\;
LOCATION:Chamber Office #6 Porter Street
UID:e.363.5332
SEQUENCE:3
DTSTAMP:20260420T002548Z
URL:https://barrowcm.365dtm.com/events/details/b-o-b-5332
END:VEVENT

END:VCALENDAR
