BEGIN:VCALENDAR
VERSION:2.0
PRODID:-//ChamberMaster//Event Calendar 2.0//EN
METHOD:PUBLISH
X-PUBLISHED-TTL:P3D
REFRESH-INTERVAL:P3D
CALSCALE:GREGORIAN
BEGIN:VEVENT
DTSTART:20090227T230000Z
DTEND:20090227T050000Z
X-MICROSOFT-CDO-ALLDAYEVENT:FALSE
SUMMARY:Baby Jam!
DESCRIPTION:Baby Jam...the biggest party of the year. Presented by Winder Barrow Realty & All proceeds benfit The March of Dimes.
X-ALT-DESC;FMTTYPE=text/html:Baby Jam...the biggest party of the year. Presented by Winder Barrow Realty & All proceeds benfit The March of Dimes. 
LOCATION:Winder Community Center
UID:e.363.2452
SEQUENCE:3
DTSTAMP:20260426T043752Z
URL:https://barrowcm.365dtm.com/events/details/baby-jam-02-27-2009-2452
END:VEVENT

END:VCALENDAR
