BEGIN:VCALENDAR
VERSION:2.0
PRODID:-//ChamberMaster//Event Calendar 2.0//EN
METHOD:PUBLISH
X-PUBLISHED-TTL:P3D
REFRESH-INTERVAL:P3D
CALSCALE:GREGORIAN
BEGIN:VEVENT
DTSTART:20130815T200000Z
DTEND:20130815T230000Z
X-MICROSOFT-CDO-ALLDAYEVENT:FALSE
SUMMARY:Barrow Business & Home EXPO
DESCRIPTION:The Barrow Business & Home  EXPO
X-ALT-DESC;FMTTYPE=text/html:The Barrow Business &amp\; Home&nbsp\; EXPO
LOCATION:Barrow County Park and Rec. Department 175 Second Street Winder\, Ga.
UID:e.363.5020
SEQUENCE:3
DTSTAMP:20260422T192500Z
URL:https://barrowcm.365dtm.com/events/details/barrow-business-home-expo-08-15-2013-5020
END:VEVENT

END:VCALENDAR
