BEGIN:VCALENDAR
VERSION:2.0
PRODID:-//ChamberMaster//Event Calendar 2.0//EN
METHOD:PUBLISH
X-PUBLISHED-TTL:P3D
REFRESH-INTERVAL:P3D
CALSCALE:GREGORIAN
BEGIN:VEVENT
DTSTART:20100828T140000Z
DTEND:20100828T190000Z
X-MICROSOFT-CDO-ALLDAYEVENT:FALSE
SUMMARY:Barrow Business & Home EXPO
DESCRIPTION:The expo will open to the general public for 10:00 am until 3:00 pmSponsored by: LH Photograpy Studio and Wells Fargo Advisors
X-ALT-DESC;FMTTYPE=text/html:<div>The expo will open to the general public for 10:00 am until 3:00 pm</div><div>Sponsored by:</div><div>&nbsp\;</div><div><span style="font-size: medium">LH Photograpy Studio and Wells Fargo Advisors</span></div>
LOCATION:Barrow Park and Rec Department 175 2nd St.\, Winder
UID:e.363.3571
SEQUENCE:3
DTSTAMP:20260425T001503Z
URL:https://barrowcm.365dtm.com/events/details/barrow-business-home-expo-08-28-2010-3571
END:VEVENT

END:VCALENDAR
