BEGIN:VCALENDAR
VERSION:2.0
PRODID:-//ChamberMaster//Event Calendar 2.0//EN
METHOD:PUBLISH
X-PUBLISHED-TTL:P3D
REFRESH-INTERVAL:P3D
CALSCALE:GREGORIAN
BEGIN:VEVENT
DTSTART:20091024T140000Z
DTEND:20091024T190000Z
X-MICROSOFT-CDO-ALLDAYEVENT:FALSE
SUMMARY:Barrow Business & Home EXPO
DESCRIPTION:Free to the public
X-ALT-DESC;FMTTYPE=text/html:<div>Free to the public</div>
LOCATION:Barrow Co. Park & Recreation175 2nd StreetWinder\, 30680
UID:e.363.3039
SEQUENCE:3
DTSTAMP:20260425T154356Z
URL:https://barrowcm.365dtm.com/events/details/barrow-business-home-expo-10-24-2009-3039
END:VEVENT

END:VCALENDAR
