BEGIN:VCALENDAR
VERSION:2.0
PRODID:-//ChamberMaster//Event Calendar 2.0//EN
METHOD:PUBLISH
X-PUBLISHED-TTL:P3D
REFRESH-INTERVAL:P3D
CALSCALE:GREGORIAN
BEGIN:VEVENT
DTSTART:20091023T213000Z
DTEND:20091023T233000Z
X-MICROSOFT-CDO-ALLDAYEVENT:FALSE
SUMMARY:Barrow Business & Home EXPO Business After Hours
DESCRIPTION:Chamber member Business after Hours sponsored by: GA Power
X-ALT-DESC;FMTTYPE=text/html:<div>Chamber member Business after Hours sponsored by: GA Power</div>
LOCATION:Barrow County Park and Recreation175 2nd StreetWinder\, 30670
UID:e.363.3038
SEQUENCE:3
DTSTAMP:20260425T153439Z
URL:https://barrowcm.365dtm.com/events/details/barrow-business-home-expo-business-after-hours-10-23-2009-3038
END:VEVENT

END:VCALENDAR
