BEGIN:VCALENDAR
VERSION:2.0
PRODID:-//ChamberMaster//Event Calendar 2.0//EN
METHOD:PUBLISH
X-PUBLISHED-TTL:P3D
REFRESH-INTERVAL:P3D
CALSCALE:GREGORIAN
BEGIN:VEVENT
DTSTART:20090512T120000Z
DTEND:20090512T200000Z
X-MICROSOFT-CDO-ALLDAYEVENT:FALSE
SUMMARY:Barrow Chamber Ninth Annual Golf Classic
DESCRIPTION:The Peoples Bank is  our  Presenting Sponsor\,The Barrow County Chamber of Commerce9th annual Golf Tournament
X-ALT-DESC;FMTTYPE=text/html:<div>The Peoples Bank is&nbsp\; our &nbsp\;Presenting Sponsor\,</div><div>The Barrow County Chamber of Commerce</div><div>9th annual Golf Tournament</div>
LOCATION:The Georgia Club
UID:e.363.2697
SEQUENCE:3
DTSTAMP:20260425T234141Z
URL:https://barrowcm.365dtm.com/events/details/barrow-chamber-ninth-annual-golf-classic-05-12-2009-2697
END:VEVENT

END:VCALENDAR
