BEGIN:VCALENDAR
VERSION:2.0
PRODID:-//ChamberMaster//Event Calendar 2.0//EN
METHOD:PUBLISH
X-PUBLISHED-TTL:P3D
REFRESH-INTERVAL:P3D
CALSCALE:GREGORIAN
BEGIN:VEVENT
DTSTART:20090714T213000Z
DTEND:20090714T213000Z
X-MICROSOFT-CDO-ALLDAYEVENT:FALSE
SUMMARY:Barrow Counrty Chamber Of Commerce Family Night
DESCRIPTION:Oasis Bowling Center in Buford Family Night Two Hours of BowlingPizzaUnlimited soft drinksShoe rentalA Bucket of popcorn
X-ALT-DESC;FMTTYPE=text/html:<div>Oasis Bowling Center in Buford Family Night</div><div>&nbsp\;</div><div>Two Hours of Bowling</div><div>Pizza</div><div>Unlimited soft drinks</div><div>Shoe rental</div><div>A Bucket of popcorn</div>
LOCATION:1601 Horizon Pkwy Buford\, GA
UID:e.363.2985
SEQUENCE:3
DTSTAMP:20260425T202739Z
URL:https://barrowcm.365dtm.com/events/details/barrow-counrty-chamber-of-commerce-family-night-07-14-2009-2985
END:VEVENT

END:VCALENDAR
