BEGIN:VCALENDAR
VERSION:2.0
PRODID:-//ChamberMaster//Event Calendar 2.0//EN
METHOD:PUBLISH
X-PUBLISHED-TTL:P3D
REFRESH-INTERVAL:P3D
CALSCALE:GREGORIAN
BEGIN:VEVENT
DTSTART;VALUE=DATE:20120818
DTEND;VALUE=DATE:20120819
TRANSP:TRANSPARENT
X-MICROSOFT-CDO-ALLDAYEVENT:TRUE
SUMMARY:Barrow County Business & Home Expo 2012
DESCRIPTION:Barrow County Business & Home Expo
X-ALT-DESC;FMTTYPE=text/html:Barrow County Business&nbsp\;&amp\; Home&nbsp\;Expo
LOCATION:Barrow County Park and Rec. Department 175 Second Street Winder
UID:e.363.4508
SEQUENCE:3
DTSTAMP:20260423T134145Z
URL:https://barrowcm.365dtm.com/events/details/barrow-county-business-home-expo-2012-08-18-2012-4508
END:VEVENT

END:VCALENDAR
