BEGIN:VCALENDAR
VERSION:2.0
PRODID:-//ChamberMaster//Event Calendar 2.0//EN
METHOD:PUBLISH
X-PUBLISHED-TTL:P3D
REFRESH-INTERVAL:P3D
CALSCALE:GREGORIAN
BEGIN:VEVENT
DTSTART:20090614T180000Z
DTEND:20090614T200000Z
X-MICROSOFT-CDO-ALLDAYEVENT:FALSE
SUMMARY:Barrow County Court House Open House
DESCRIPTION:
X-ALT-DESC;FMTTYPE=text/html:
LOCATION:
UID:e.363.2983
SEQUENCE:3
DTSTAMP:20260425T215143Z
URL:https://barrowcm.365dtm.com/events/details/barrow-county-court-house-open-house-06-14-2009-2983
END:VEVENT

END:VCALENDAR
