BEGIN:VCALENDAR
VERSION:2.0
PRODID:-//ChamberMaster//Event Calendar 2.0//EN
METHOD:PUBLISH
X-PUBLISHED-TTL:P3D
REFRESH-INTERVAL:P3D
CALSCALE:GREGORIAN
BEGIN:VEVENT
DTSTART:20110510T123000Z
DTEND:20110510T200000Z
X-MICROSOFT-CDO-ALLDAYEVENT:FALSE
SUMMARY:Barrow County Golf Tournament
DESCRIPTION:Barrow County Chamber of Commerce\n\nAnnual Golf Tournament
X-ALT-DESC;FMTTYPE=text/html:Barrow County Chamber of Commerce<br />\nAnnual Golf Tournament
LOCATION:The Georgia Club
UID:e.363.3675
SEQUENCE:3
DTSTAMP:20260424T105028Z
URL:https://barrowcm.365dtm.com/events/details/barrow-county-golf-tournament-05-10-2011-3675
END:VEVENT

END:VCALENDAR
