BEGIN:VCALENDAR
VERSION:2.0
PRODID:-//ChamberMaster//Event Calendar 2.0//EN
METHOD:PUBLISH
X-PUBLISHED-TTL:P3D
REFRESH-INTERVAL:P3D
CALSCALE:GREGORIAN
BEGIN:VEVENT
DTSTART:20090611T123000Z
DTEND:20090611T200000Z
X-MICROSOFT-CDO-ALLDAYEVENT:FALSE
SUMMARY:Barrow County Summer Youth Conference
DESCRIPTION:The Summer Youth Conference is an event for middle and high school students. The focus is on having fun\, learning about how to make healthy decisions. The focus is on those hard issues that teens deal with every day: sex\, drugs\, peer pressure\, goals and the future. Come have fun and learn all your options. Every decision you make today affects your life tomorrow!
X-ALT-DESC;FMTTYPE=text/html:The Summer Youth Conference is an event for middle and high school students. The focus is on having fun\, learning about how to make healthy decisions. The focus is on those hard issues that teens deal with every day: sex\, drugs\, peer pressure\, goals and the future. Come have fun and learn all your options. Every decision you make today affects your life tomorrow!
LOCATION:Winder Barrow Middle School
UID:e.363.2690
SEQUENCE:3
DTSTAMP:20260425T214924Z
URL:https://barrowcm.365dtm.com/events/details/barrow-county-summer-youth-conference-06-11-2009-2690
END:VEVENT

END:VCALENDAR
