BEGIN:VCALENDAR
VERSION:2.0
PRODID:-//ChamberMaster//Event Calendar 2.0//EN
METHOD:PUBLISH
X-PUBLISHED-TTL:P3D
REFRESH-INTERVAL:P3D
CALSCALE:GREGORIAN
BEGIN:VEVENT
DTSTART:20090226T223000Z
DTEND:20090227T003000Z
X-MICROSOFT-CDO-ALLDAYEVENT:FALSE
SUMMARY:Barrow County Young Professional Social
DESCRIPTION:Barrow Co. Young Professionals is for 21-40 yer olds that live or work in Barrow County\,\noffering opportunites for young professional to come together through networking to build better\nrelationships\, businesses and community\nRSVP to the chamber 770-867-9444
X-ALT-DESC;FMTTYPE=text/html:Barrow Co. Young Professionals is for 21-40 yer olds that live or work in Barrow County\,\noffering opportunites for young professional to come together through networking to build better\nrelationships\, businesses and community\nRSVP to the chamber 770-867-9444
LOCATION:El Centinela Mexican Resturant\, 138 A West Athens Street Brookwood Plaza Shipping Center
UID:e.363.2663
SEQUENCE:3
DTSTAMP:20260426T044029Z
URL:https://barrowcm.365dtm.com/events/details/barrow-county-young-professional-social-02-26-2009-2663
END:VEVENT

END:VCALENDAR
