BEGIN:VCALENDAR
VERSION:2.0
PRODID:-//ChamberMaster//Event Calendar 2.0//EN
METHOD:PUBLISH
X-PUBLISHED-TTL:P3D
REFRESH-INTERVAL:P3D
CALSCALE:GREGORIAN
BEGIN:VEVENT
DTSTART:20130504T140000Z
DTEND:20130505T220000Z
X-MICROSOFT-CDO-ALLDAYEVENT:FALSE
SUMMARY:Barrow Preservation Society Spring Tour of Homes & Historic Buildings
DESCRIPTION:Stroll down the Candler/Church Street areas of Winder to get a glimpse inside interesting old homes. Some are beautifully restored\; others are waiting for someone special to come along to give them a new life. $10/10 sites.
X-ALT-DESC;FMTTYPE=text/html:<span itemprop="description"><span class="fsl">Stroll down the Candler/Church Street areas of Winder to get a glimpse inside interesting old homes. Some are beautifully restored\; others are waiting for someone special to come along to give them a new life. $10/10 sites.</span></span>
LOCATION:Tour begins at Watson Hall\, 123 Church St.\, Winder\, GA
UID:e.363.4839
SEQUENCE:3
DTSTAMP:20260422T233754Z
URL:https://barrowcm.365dtm.com/events/details/barrow-preservation-society-spring-tour-of-homes-historic-buildings-05-04-2013-4839
END:VEVENT

END:VCALENDAR
