BEGIN:VCALENDAR
VERSION:2.0
PRODID:-//ChamberMaster//Event Calendar 2.0//EN
METHOD:PUBLISH
X-PUBLISHED-TTL:P3D
REFRESH-INTERVAL:P3D
CALSCALE:GREGORIAN
BEGIN:VEVENT
DTSTART:20090527T160000Z
DTEND:20090527T170000Z
X-MICROSOFT-CDO-ALLDAYEVENT:FALSE
SUMMARY:Barrow Young Professionals
DESCRIPTION:Barrow Young Professionals Lunch and LearnKatie Wilcox will be hosting a panel discussion on Money and Today's Economy featuring Mr. Robert Gardner Jr. Esq. of HIcks\, Massey and Gardner LLP and Dawn Wiggins of Well Fargo Home Mortagatge
X-ALT-DESC;FMTTYPE=text/html:<div>Barrow Young Professionals Lunch and Learn</div><div>Katie Wilcox will be hosting a panel discussion on Money and Today's Economy featuring Mr. Robert Gardner Jr. Esq. of HIcks\, Massey and Gardner LLP and Dawn Wiggins of Well Fargo Home Mortagatge</div>
LOCATION:Chamber office#6 Porter StreetWinder
UID:e.363.2722
SEQUENCE:3
DTSTAMP:20260425T233628Z
URL:https://barrowcm.365dtm.com/events/details/barrow-young-professionals-05-27-2009-2722
END:VEVENT

END:VCALENDAR
